BEGIN:VCALENDAR
VERSION:2.0
PRODID:-//StreamRadar//Match Calendar//EN
CALSCALE:GREGORIAN
METHOD:PUBLISH
X-WR-CALNAME:Langfang Glory City vs Foshan Nanshi
X-WR-TIMEZONE:America/New_York
BEGIN:VEVENT
UID:match-5618922@streamradar.soccer
SUMMARY:Langfang Glory City vs Foshan Nanshi
DTSTAMP:20260423T200416Z
DTSTART;TZID=America/New_York:20260515T030000
DTEND;TZID=America/New_York:20260515T050000
LOCATION:Linping Sports Centre Stadium
DESCRIPTION:Onde ver Langfang Glory City vs Foshan Nanshi em FA Cup. Transm
 issão ao vivo e programação de TV.\nhttps://streamradar.soccer/pt/match/
 5618922/langfang-glory-city-vs-foshan-nanshi/
URL;VALUE=URI:https://streamradar.soccer/pt/match/5618922/langfang-glory-ci
 ty-vs-foshan-nanshi/
STATUS:CONFIRMED
END:VEVENT
END:VCALENDAR
