BEGIN:VCALENDAR
VERSION:2.0
PRODID:-//StreamRadar//Match Calendar//EN
CALSCALE:GREGORIAN
METHOD:PUBLISH
X-WR-CALNAME:Extension Gunners vs BDF XI
X-WR-TIMEZONE:America/New_York
BEGIN:VEVENT
UID:match-5618881@streamradar.soccer
SUMMARY:Extension Gunners vs BDF XI
DTSTAMP:20260422T121448Z
DTSTART;TZID=America/New_York:20260425T093000
DTEND;TZID=America/New_York:20260425T113000
LOCATION:Lobatse Stadium (Lobatse)
DESCRIPTION:Onde ver Extension Gunners vs BDF XI em Botsuana - Premier Leag
 ue. Transmissão ao vivo e programação de TV.\nhttps://streamradar.soccer
 /pt/match/5618881/extension-gunners-vs-bdf-xi/
URL;VALUE=URI:https://streamradar.soccer/pt/match/5618881/extension-gunners
 -vs-bdf-xi/
STATUS:CONFIRMED
END:VEVENT
END:VCALENDAR
