BEGIN:VCALENDAR
VERSION:2.0
PRODID:-//StreamRadar//Match Calendar//EN
CALSCALE:GREGORIAN
METHOD:PUBLISH
X-WR-CALNAME:Hapoel Afula vs Maccabi Kabilio Jaffa
X-WR-TIMEZONE:America/New_York
BEGIN:VEVENT
UID:match-5618801@streamradar.soccer
SUMMARY:Hapoel Afula vs Maccabi Kabilio Jaffa
DTSTAMP:20260422T133709Z
DTSTART;TZID=America/New_York:20260519T120000
DTEND;TZID=America/New_York:20260519T140000
DESCRIPTION:Onde ver Hapoel Afula vs Maccabi Kabilio Jaffa em Israel - Liga
  Leumit. Transmissão ao vivo e programação de TV.\nhttps://streamradar.s
 occer/pt/match/5618801/hapoel-afula-vs-maccabi-kabilio-jaffa/
URL;VALUE=URI:https://streamradar.soccer/pt/match/5618801/hapoel-afula-vs-m
 accabi-kabilio-jaffa/
STATUS:CONFIRMED
END:VEVENT
END:VCALENDAR
