BEGIN:VCALENDAR
VERSION:2.0
PRODID:-//StreamRadar//Match Calendar//EN
CALSCALE:GREGORIAN
METHOD:PUBLISH
X-WR-CALNAME:Amarante vs CF Os Belenenses
X-WR-TIMEZONE:America/New_York
BEGIN:VEVENT
UID:match-5618734@streamradar.soccer
SUMMARY:Amarante vs CF Os Belenenses
DTSTAMP:20260422T120909Z
DTSTART;TZID=America/New_York:20260426T113000
DTEND;TZID=America/New_York:20260426T133000
LOCATION:Amarante Stadium
DESCRIPTION:Onde ver Amarante vs CF Os Belenenses em Portugal - Liga 3. Tra
 nsmissão ao vivo e programação de TV.\nhttps://streamradar.soccer/pt/mat
 ch/5618734/amarante-vs-cf-os-belenenses/
URL;VALUE=URI:https://streamradar.soccer/pt/match/5618734/amarante-vs-cf-os
 -belenenses/
STATUS:CONFIRMED
END:VEVENT
END:VCALENDAR
