BEGIN:VCALENDAR
VERSION:2.0
PRODID:-//StreamRadar//Match Calendar//EN
CALSCALE:GREGORIAN
METHOD:PUBLISH
X-WR-CALNAME:Shillong Lajong vs Dempo
X-WR-TIMEZONE:America/New_York
BEGIN:VEVENT
UID:match-5618715@streamradar.soccer
SUMMARY:Shillong Lajong vs Dempo
DTSTAMP:20260422T121027Z
DTSTART;TZID=America/New_York:20260426T090000
DTEND;TZID=America/New_York:20260426T110000
LOCATION:Jawaharlal Nehru Stadium
DESCRIPTION:Onde ver Shillong Lajong vs Dempo em Índia - I-League. Transmi
 ssão ao vivo e programação de TV.\nhttps://streamradar.soccer/pt/match/5
 618715/shillong-lajong-vs-dempo/
URL;VALUE=URI:https://streamradar.soccer/pt/match/5618715/shillong-lajong-v
 s-dempo/
STATUS:CONFIRMED
END:VEVENT
END:VCALENDAR
