BEGIN:VCALENDAR
VERSION:2.0
PRODID:-//StreamRadar//Match Calendar//EN
CALSCALE:GREGORIAN
METHOD:PUBLISH
X-WR-CALNAME:Tapatío vs Cancún
X-WR-TIMEZONE:America/New_York
BEGIN:VEVENT
UID:match-5618711@streamradar.soccer
SUMMARY:Tapatío vs Cancún
DTSTAMP:20260422T113457Z
DTSTART;TZID=America/New_York:20260423T210000
DTEND;TZID=America/New_York:20260423T230000
LOCATION:Estadio Akron
DESCRIPTION:Onde ver Tapatío vs Cancún em Liga de Expansão MX. Transmiss
 ão ao vivo e programação de TV.\nhttps://streamradar.soccer/pt/match/561
 8711/tapatio-vs-cancun/
URL;VALUE=URI:https://streamradar.soccer/pt/match/5618711/tapatio-vs-cancun
 /
STATUS:CONFIRMED
END:VEVENT
END:VCALENDAR
