BEGIN:VCALENDAR
VERSION:2.0
PRODID:-//StreamRadar//Match Calendar//EN
CALSCALE:GREGORIAN
METHOD:PUBLISH
X-WR-CALNAME:Beau Bassin vs Pamplemousses
X-WR-TIMEZONE:America/New_York
BEGIN:VEVENT
UID:match-5618696@streamradar.soccer
SUMMARY:Beau Bassin vs Pamplemousses
DTSTAMP:20260422T121015Z
DTSTART;TZID=America/New_York:20260423T103000
DTEND;TZID=America/New_York:20260423T123000
DESCRIPTION:Onde ver Beau Bassin vs Pamplemousses em Ilhas Maurício - Maur
 itian League. Transmissão ao vivo e programação de TV.\nhttps://streamra
 dar.soccer/pt/match/5618696/beau-bassin-vs-pamplemousses/
URL;VALUE=URI:https://streamradar.soccer/pt/match/5618696/beau-bassin-vs-pa
 mplemousses/
STATUS:CONFIRMED
END:VEVENT
END:VCALENDAR
