BEGIN:VCALENDAR
VERSION:2.0
PRODID:-//StreamRadar//Match Calendar//EN
CALSCALE:GREGORIAN
METHOD:PUBLISH
X-WR-CALNAME:Police vs Homeboyz
X-WR-TIMEZONE:America/New_York
BEGIN:VEVENT
UID:match-5618138@streamradar.soccer
SUMMARY:Police vs Homeboyz
DTSTAMP:20260421T145748Z
DTSTART;TZID=America/New_York:20260530T080000
DTEND;TZID=America/New_York:20260530T100000
DESCRIPTION:Onde ver Police vs Homeboyz em Kenyan Premier League. Transmiss
 ão ao vivo e programação de TV.\nhttps://streamradar.soccer/pt/match/561
 8138/police-vs-homeboyz/
URL;VALUE=URI:https://streamradar.soccer/pt/match/5618138/police-vs-homeboy
 z/
STATUS:CONFIRMED
END:VEVENT
END:VCALENDAR
