BEGIN:VCALENDAR
VERSION:2.0
PRODID:-//StreamRadar//Match Calendar//EN
CALSCALE:GREGORIAN
METHOD:PUBLISH
X-WR-CALNAME:Maghreb Fès vs Hassania Agadir
X-WR-TIMEZONE:America/New_York
BEGIN:VEVENT
UID:match-5618090@streamradar.soccer
SUMMARY:Maghreb Fès vs Hassania Agadir
DTSTAMP:20260421T120522Z
DTSTART;TZID=America/New_York:20260429T150000
DTEND;TZID=America/New_York:20260429T170000
DESCRIPTION:Onde ver Maghreb Fès vs Hassania Agadir em Marrocos - Botola P
 ro. Transmissão ao vivo e programação de TV.\nhttps://streamradar.soccer
 /pt/match/5618090/maghreb-fes-vs-hassania-agadir/
URL;VALUE=URI:https://streamradar.soccer/pt/match/5618090/maghreb-fes-vs-ha
 ssania-agadir/
STATUS:CONFIRMED
END:VEVENT
END:VCALENDAR
