BEGIN:VCALENDAR
VERSION:2.0
PRODID:-//StreamRadar//Match Calendar//EN
CALSCALE:GREGORIAN
METHOD:PUBLISH
X-WR-CALNAME:FAR Rabat vs RSB Berkane
X-WR-TIMEZONE:America/New_York
BEGIN:VEVENT
UID:match-5618086@streamradar.soccer
SUMMARY:FAR Rabat vs RSB Berkane
DTSTAMP:20260421T104222Z
DTSTART;TZID=America/New_York:20260422T150000
DTEND;TZID=America/New_York:20260422T170000
LOCATION:Stade Olympique de Rabat
DESCRIPTION:Onde ver FAR Rabat vs RSB Berkane em Marrocos - Botola Pro. Tra
 nsmissão ao vivo e programação de TV.\nhttps://streamradar.soccer/pt/mat
 ch/5618086/far-rabat-vs-rsb-berkane/
URL;VALUE=URI:https://streamradar.soccer/pt/match/5618086/far-rabat-vs-rsb-
 berkane/
STATUS:CONFIRMED
END:VEVENT
END:VCALENDAR
