BEGIN:VCALENDAR
VERSION:2.0
PRODID:-//StreamRadar//Match Calendar//EN
CALSCALE:GREGORIAN
METHOD:PUBLISH
X-WR-CALNAME:Hapoel Petah Tikva vs Maccabi Tel Aviv
X-WR-TIMEZONE:America/New_York
BEGIN:VEVENT
UID:match-5618082@streamradar.soccer
SUMMARY:Hapoel Petah Tikva vs Maccabi Tel Aviv
DTSTAMP:20260421T120614Z
DTSTART;TZID=America/New_York:20260523T130000
DTEND;TZID=America/New_York:20260523T150000
LOCATION:HaMoshava Stadium
DESCRIPTION:Onde ver Hapoel Petah Tikva vs Maccabi Tel Aviv em Israel - Lig
 at Ha'Al. Transmissão ao vivo e programação de TV.\nhttps://streamradar.
 soccer/pt/match/5618082/hapoel-petah-tikva-vs-maccabi-tel-aviv/
URL;VALUE=URI:https://streamradar.soccer/pt/match/5618082/hapoel-petah-tikv
 a-vs-maccabi-tel-aviv/
STATUS:CONFIRMED
END:VEVENT
END:VCALENDAR
