BEGIN:VCALENDAR
VERSION:2.0
PRODID:-//StreamRadar//Match Calendar//EN
CALSCALE:GREGORIAN
METHOD:PUBLISH
X-WR-CALNAME:Spartak Varna vs Lokomotiv Sofia 1929
X-WR-TIMEZONE:America/New_York
BEGIN:VEVENT
UID:match-5618065@streamradar.soccer
SUMMARY:Spartak Varna vs Lokomotiv Sofia 1929
DTSTAMP:20260421T120533Z
DTSTART;TZID=America/New_York:20260522T110000
DTEND;TZID=America/New_York:20260522T130000
LOCATION:Stadion Spartak
DESCRIPTION:Onde ver Spartak Varna vs Lokomotiv Sofia 1929 em Bulgária - P
 arva Liga. Transmissão ao vivo e programação de TV.\nhttps://streamradar
 .soccer/pt/match/5618065/spartak-varna-vs-lokomotiv-sofia-1929/
URL;VALUE=URI:https://streamradar.soccer/pt/match/5618065/spartak-varna-vs-
 lokomotiv-sofia-1929/
STATUS:CONFIRMED
END:VEVENT
END:VCALENDAR
