BEGIN:VCALENDAR
VERSION:2.0
PRODID:-//StreamRadar//Match Calendar//EN
CALSCALE:GREGORIAN
METHOD:PUBLISH
X-WR-CALNAME:Almagro vs Atlanta
X-WR-TIMEZONE:America/New_York
BEGIN:VEVENT
UID:match-5618035@streamradar.soccer
SUMMARY:Almagro vs Atlanta
DTSTAMP:20260421T161649Z
DTSTART;TZID=America/New_York:20260620T160000
DTEND;TZID=America/New_York:20260620T180000
LOCATION:Estadio Tres de Febrero
DESCRIPTION:Onde ver Almagro vs Atlanta em Argentina - Primera Nacional. Tr
 ansmissão ao vivo e programação de TV.\nhttps://streamradar.soccer/pt/ma
 tch/5618035/almagro-vs-atlanta/
URL;VALUE=URI:https://streamradar.soccer/pt/match/5618035/almagro-vs-atlant
 a/
STATUS:CONFIRMED
END:VEVENT
END:VCALENDAR
