BEGIN:VCALENDAR
VERSION:2.0
PRODID:-//StreamRadar//Match Calendar//EN
CALSCALE:GREGORIAN
METHOD:PUBLISH
X-WR-CALNAME:Boston River vs O'Higgins
X-WR-TIMEZONE:America/New_York
BEGIN:VEVENT
UID:match-5617987@streamradar.soccer
SUMMARY:Boston River vs O'Higgins
DTSTAMP:20260421T112235Z
DTSTART;TZID=America/New_York:20260520T180000
DTEND;TZID=America/New_York:20260520T200000
LOCATION:Estadio Centenario
DESCRIPTION:Onde ver Boston River vs O'Higgins em Copa Sul-Americana. Trans
 missão ao vivo e programação de TV.\nhttps://streamradar.soccer/pt/match
 /5617987/boston-river-vs-o-higgins/
URL;VALUE=URI:https://streamradar.soccer/pt/match/5617987/boston-river-vs-o
 -higgins/
STATUS:CONFIRMED
END:VEVENT
END:VCALENDAR
