BEGIN:VCALENDAR
VERSION:2.0
PRODID:-//StreamRadar//Match Calendar//EN
CALSCALE:GREGORIAN
METHOD:PUBLISH
X-WR-CALNAME:Phoenix Rising vs Colorado Springs
X-WR-TIMEZONE:America/New_York
BEGIN:VEVENT
UID:match-5617707@streamradar.soccer
SUMMARY:Phoenix Rising vs Colorado Springs
DTSTAMP:20260425T004042Z
DTSTART;TZID=America/New_York:20260425T220000
DTEND;TZID=America/New_York:20260426T000000
LOCATION:Wild Horse Pass Stadium
DESCRIPTION:Onde ver Phoenix Rising vs Colorado Springs em Estados Unidos -
  USL Cup. Transmissão ao vivo e programação de TV.\nhttps://streamradar.
 soccer/pt/match/5617707/phoenix-rising-vs-colorado-springs/
URL;VALUE=URI:https://streamradar.soccer/pt/match/5617707/phoenix-rising-vs
 -colorado-springs/
STATUS:CONFIRMED
END:VEVENT
END:VCALENDAR
