BEGIN:VCALENDAR
VERSION:2.0
PRODID:-//StreamRadar//Match Calendar//EN
CALSCALE:GREGORIAN
METHOD:PUBLISH
X-WR-CALNAME:Monterey Bay vs Oakland Roots
X-WR-TIMEZONE:America/New_York
BEGIN:VEVENT
UID:match-5617704@streamradar.soccer
SUMMARY:Monterey Bay vs Oakland Roots
DTSTAMP:20260425T004041Z
DTSTART;TZID=America/New_York:20260425T220000
DTEND;TZID=America/New_York:20260426T000000
LOCATION:Cardinale Stadium
DESCRIPTION:Onde ver Monterey Bay vs Oakland Roots em Estados Unidos - USL 
 Cup. Transmissão ao vivo e programação de TV.\nhttps://streamradar.socce
 r/pt/match/5617704/monterey-bay-vs-oakland-roots/
URL;VALUE=URI:https://streamradar.soccer/pt/match/5617704/monterey-bay-vs-o
 akland-roots/
STATUS:CONFIRMED
END:VEVENT
END:VCALENDAR
