BEGIN:VCALENDAR
VERSION:2.0
PRODID:-//StreamRadar//Match Calendar//EN
CALSCALE:GREGORIAN
METHOD:PUBLISH
X-WR-CALNAME:Famalicão U23 vs Torreense U23
X-WR-TIMEZONE:America/New_York
BEGIN:VEVENT
UID:match-5617636@streamradar.soccer
SUMMARY:Famalicão U23 vs Torreense U23
DTSTAMP:20260420T121129Z
DTSTART;TZID=America/New_York:20260421T090000
DTEND;TZID=America/New_York:20260421T110000
LOCATION:Campo 2 Academia FC Famalicao (Esmeriz)
DESCRIPTION:Onde ver Famalicão Sub-23 vs Torreense Sub-23 em Portugal - Li
 ga Revelação. Transmissão ao vivo e programação de TV.\nhttps://stream
 radar.soccer/pt/match/5617636/famalicao-u23-vs-torreense-u23/
URL;VALUE=URI:https://streamradar.soccer/pt/match/5617636/famalicao-u23-vs-
 torreense-u23/
STATUS:CONFIRMED
END:VEVENT
END:VCALENDAR
