BEGIN:VCALENDAR
VERSION:2.0
PRODID:-//StreamRadar//Match Calendar//EN
CALSCALE:GREGORIAN
METHOD:PUBLISH
X-WR-CALNAME:Santa Fe Sp vs Tupa
X-WR-TIMEZONE:America/New_York
BEGIN:VEVENT
UID:match-5617605@streamradar.soccer
SUMMARY:Santa Fe Sp vs Tupa
DTSTAMP:20260420T165048Z
DTSTART;TZID=America/New_York:20260515T180000
DTEND;TZID=America/New_York:20260515T200000
DESCRIPTION:Onde ver Santa Fe Sp vs Tupa em Brasil - Campeonato Paulista SÃ
 ©rie B. TransmissÃ£o ao vivo e programaÃ§Ã£o de TV.\nhttps://streamradar.so
 ccer/pt/match/5617605/santa-fe-sp-vs-tupa/
URL;VALUE=URI:https://streamradar.soccer/pt/match/5617605/santa-fe-sp-vs-tu
 pa/
STATUS:CONFIRMED
END:VEVENT
END:VCALENDAR
