BEGIN:VCALENDAR
VERSION:2.0
PRODID:-//StreamRadar//Match Calendar//EN
CALSCALE:GREGORIAN
METHOD:PUBLISH
X-WR-CALNAME:Santa Fe Sp vs Assisense
X-WR-TIMEZONE:America/New_York
BEGIN:VEVENT
UID:match-5617581@streamradar.soccer
SUMMARY:Santa Fe Sp vs Assisense
DTSTAMP:20260420T164854Z
DTSTART;TZID=America/New_York:20260501T180000
DTEND;TZID=America/New_York:20260501T200000
DESCRIPTION:Onde ver Santa Fe Sp vs Assisense em Brasil - Campeonato Paulis
 ta Série B. Transmissão ao vivo e programação de TV.\nhttps://streamrad
 ar.soccer/pt/match/5617581/santa-fe-sp-vs-assisense/
URL;VALUE=URI:https://streamradar.soccer/pt/match/5617581/santa-fe-sp-vs-as
 sisense/
STATUS:CONFIRMED
END:VEVENT
END:VCALENDAR
