BEGIN:VCALENDAR
VERSION:2.0
PRODID:-//StreamRadar//Match Calendar//EN
CALSCALE:GREGORIAN
METHOD:PUBLISH
X-WR-CALNAME:Ural 2 vs Pobeda Nizhniy Novgorod
X-WR-TIMEZONE:America/New_York
BEGIN:VEVENT
UID:match-5617556@streamradar.soccer
SUMMARY:Ural 2 vs Pobeda Nizhniy Novgorod
DTSTAMP:20260421T063130Z
DTSTART;TZID=America/New_York:20260517T090000
DTEND;TZID=America/New_York:20260517T110000
DESCRIPTION:Onde ver Ural 2 vs Pobeda Nizhniy Novgorod em Rússia - FNL 2. 
 Transmissão ao vivo e programação de TV.\nhttps://streamradar.soccer/pt/
 match/5617556/ural-2-vs-pobeda-nizhniy-novgorod/
URL;VALUE=URI:https://streamradar.soccer/pt/match/5617556/ural-2-vs-pobeda-
 nizhniy-novgorod/
STATUS:CONFIRMED
END:VEVENT
END:VCALENDAR
