BEGIN:VCALENDAR
VERSION:2.0
PRODID:-//StreamRadar//Match Calendar//EN
CALSCALE:GREGORIAN
METHOD:PUBLISH
X-WR-CALNAME:Liège vs Lommel United
X-WR-TIMEZONE:America/New_York
BEGIN:VEVENT
UID:match-5617396@streamradar.soccer
SUMMARY:Liège vs Lommel United
DTSTAMP:20260420T120825Z
DTSTART;TZID=America/New_York:20260427T143000
DTEND;TZID=America/New_York:20260427T163000
LOCATION:Stade de Rocourt
DESCRIPTION:Onde ver Liège vs Lommel United em Bélgica - Pro League. Tran
 smissão ao vivo e programação de TV.\nhttps://streamradar.soccer/pt/matc
 h/5617396/liege-vs-lommel-united/
URL;VALUE=URI:https://streamradar.soccer/pt/match/5617396/liege-vs-lommel-u
 nited/
STATUS:CONFIRMED
END:VEVENT
END:VCALENDAR
