BEGIN:VCALENDAR
VERSION:2.0
PRODID:-//StreamRadar//Match Calendar//EN
CALSCALE:GREGORIAN
METHOD:PUBLISH
X-WR-CALNAME:Nestos Chrisoupolis vs PAS Giannina
X-WR-TIMEZONE:America/New_York
BEGIN:VEVENT
UID:match-5617043@streamradar.soccer
SUMMARY:Nestos Chrisoupolis vs PAS Giannina
DTSTAMP:20260421T092356Z
DTSTART;TZID=America/New_York:20260422T080000
DTEND;TZID=America/New_York:20260422T100000
LOCATION:Dimotiko Stadio Chrysoupolis (Chrysoupoli)
DESCRIPTION:Onde ver Nestos Chrisoupolis vs PAS Giannina em Grécia - Super
  League 2. Transmissão ao vivo e programação de TV.\nhttps://streamradar
 .soccer/pt/match/5617043/nestos-chrisoupolis-vs-pas-giannina/
URL;VALUE=URI:https://streamradar.soccer/pt/match/5617043/nestos-chrisoupol
 is-vs-pas-giannina/
STATUS:CONFIRMED
END:VEVENT
END:VCALENDAR
