BEGIN:VCALENDAR
VERSION:2.0
PRODID:-//StreamRadar//Match Calendar//EN
CALSCALE:GREGORIAN
METHOD:PUBLISH
X-WR-CALNAME:P-Iirot vs EBK
X-WR-TIMEZONE:America/New_York
BEGIN:VEVENT
UID:match-5616986@streamradar.soccer
SUMMARY:P-Iirot vs EBK
DTSTAMP:20260419T120132Z
DTSTART;TZID=America/New_York:20260509T080000
DTEND;TZID=America/New_York:20260509T100000
DESCRIPTION:Onde ver P-Iirot vs EBK em Finlândia - Kakkonen. Transmissão 
 ao vivo e programação de TV.\nhttps://streamradar.soccer/pt/match/5616986
 /p-iirot-vs-ebk/
URL;VALUE=URI:https://streamradar.soccer/pt/match/5616986/p-iirot-vs-ebk/
STATUS:CONFIRMED
END:VEVENT
END:VCALENDAR
