BEGIN:VCALENDAR
VERSION:2.0
PRODID:-//StreamRadar//Match Calendar//EN
CALSCALE:GREGORIAN
METHOD:PUBLISH
X-WR-CALNAME:ÅIFK vs GrIFK
X-WR-TIMEZONE:America/New_York
BEGIN:VEVENT
UID:match-5616985@streamradar.soccer
SUMMARY:ÅIFK vs GrIFK
DTSTAMP:20260419T120609Z
DTSTART;TZID=America/New_York:20260509T080000
DTEND;TZID=America/New_York:20260509T100000
LOCATION:Urheilupuiston Ylakentta
DESCRIPTION:Onde ver ÅIFK vs GrIFK em Finlândia - Kakkonen. Transmissão 
 ao vivo e programação de TV.\nhttps://streamradar.soccer/pt/match/5616985
 /aifk-vs-grifk/
URL;VALUE=URI:https://streamradar.soccer/pt/match/5616985/aifk-vs-grifk/
STATUS:CONFIRMED
END:VEVENT
END:VCALENDAR
