BEGIN:VCALENDAR
VERSION:2.0
PRODID:-//StreamRadar//Match Calendar//EN
CALSCALE:GREGORIAN
METHOD:PUBLISH
X-WR-CALNAME:Union Plaani vs PPJ
X-WR-TIMEZONE:America/New_York
BEGIN:VEVENT
UID:match-5616964@streamradar.soccer
SUMMARY:Union Plaani vs PPJ
DTSTAMP:20260419T121725Z
DTSTART;TZID=America/New_York:20260516T090000
DTEND;TZID=America/New_York:20260516T110000
LOCATION:Urheilupuisto N
DESCRIPTION:Onde ver Union Plaani vs PPJ em Finlândia - Kakkonen. Transmis
 são ao vivo e programação de TV.\nhttps://streamradar.soccer/pt/match/56
 16964/union-plaani-vs-ppj/
URL;VALUE=URI:https://streamradar.soccer/pt/match/5616964/union-plaani-vs-p
 pj/
STATUS:CONFIRMED
END:VEVENT
END:VCALENDAR
