BEGIN:VCALENDAR
VERSION:2.0
PRODID:-//StreamRadar//Match Calendar//EN
CALSCALE:GREGORIAN
METHOD:PUBLISH
X-WR-CALNAME:Welwalo Adigrat Uni vs Negele Arsi Ketema
X-WR-TIMEZONE:America/New_York
BEGIN:VEVENT
UID:match-5616916@streamradar.soccer
SUMMARY:Welwalo Adigrat Uni vs Negele Arsi Ketema
DTSTAMP:20260421T121224Z
DTSTART;TZID=America/New_York:20260506T110000
DTEND;TZID=America/New_York:20260506T130000
DESCRIPTION:Onde ver Welwalo Adigrat Uni vs Negele Arsi Ketema em Etiópia 
 - Premier League. Transmissão ao vivo e programação de TV.\nhttps://stre
 amradar.soccer/pt/match/5616916/welwalo-adigrat-uni-vs-negele-arsi-ketema/
URL;VALUE=URI:https://streamradar.soccer/pt/match/5616916/welwalo-adigrat-u
 ni-vs-negele-arsi-ketema/
STATUS:CONFIRMED
END:VEVENT
END:VCALENDAR
