BEGIN:VCALENDAR
VERSION:2.0
PRODID:-//StreamRadar//Match Calendar//EN
CALSCALE:GREGORIAN
METHOD:PUBLISH
X-WR-CALNAME:Latsion vs Digenis Morphou
X-WR-TIMEZONE:America/New_York
BEGIN:VEVENT
UID:match-5616888@streamradar.soccer
SUMMARY:Latsion vs Digenis Morphou
DTSTAMP:20260421T062046Z
DTSTART;TZID=America/New_York:20260421T100000
DTEND;TZID=America/New_York:20260421T120000
LOCATION:Stadio Katokopia-Epistrofi-Glafkos Kliridis (Peristerona)
DESCRIPTION:Onde ver Latsion vs Digenis Morphou em 2ª Divisão do Chipre. 
 Transmissão ao vivo e programação de TV.\nhttps://streamradar.soccer/pt/
 match/5616888/latsion-vs-digenis-morphou/
URL;VALUE=URI:https://streamradar.soccer/pt/match/5616888/latsion-vs-digeni
 s-morphou/
STATUS:CONFIRMED
END:VEVENT
END:VCALENDAR
