BEGIN:VCALENDAR
VERSION:2.0
PRODID:-//StreamRadar//Match Calendar//EN
CALSCALE:GREGORIAN
METHOD:PUBLISH
X-WR-CALNAME:Arda vs Botev Plovdiv
X-WR-TIMEZONE:America/New_York
BEGIN:VEVENT
UID:match-5616795@streamradar.soccer
SUMMARY:Arda vs Botev Plovdiv
DTSTAMP:20260419T121900Z
DTSTART;TZID=America/New_York:20260425T110000
DTEND;TZID=America/New_York:20260425T130000
LOCATION:Arena Arda
DESCRIPTION:Onde ver Arda vs Botev Plovdiv em Bulgária - Parva Liga. Trans
 missão ao vivo e programação de TV.\nhttps://streamradar.soccer/pt/match
 /5616795/arda-vs-botev-plovdiv/
URL;VALUE=URI:https://streamradar.soccer/pt/match/5616795/arda-vs-botev-plo
 vdiv/
STATUS:CONFIRMED
END:VEVENT
END:VCALENDAR
