BEGIN:VCALENDAR
VERSION:2.0
PRODID:-//StreamRadar//Match Calendar//EN
CALSCALE:GREGORIAN
METHOD:PUBLISH
X-WR-CALNAME:Karkonosze Jelenia Góra vs Polonia Nysa
X-WR-TIMEZONE:America/New_York
BEGIN:VEVENT
UID:match-5616304@streamradar.soccer
SUMMARY:Karkonosze Jelenia Góra vs Polonia Nysa
DTSTAMP:20260421T093201Z
DTSTART;TZID=America/New_York:20260517T060000
DTEND;TZID=America/New_York:20260517T080000
DESCRIPTION:Onde ver Karkonosze Jelenia Góra vs Polonia Nysa em Polônia -
  III Liga. Transmissão ao vivo e programação de TV.\nhttps://streamradar
 .soccer/pt/match/5616304/karkonosze-jelenia-gora-vs-polonia-nysa/
URL;VALUE=URI:https://streamradar.soccer/pt/match/5616304/karkonosze-jeleni
 a-gora-vs-polonia-nysa/
STATUS:CONFIRMED
END:VEVENT
END:VCALENDAR
