BEGIN:VCALENDAR
VERSION:2.0
PRODID:-//StreamRadar//Match Calendar//EN
CALSCALE:GREGORIAN
METHOD:PUBLISH
X-WR-CALNAME:Red River vs Hattiesburg
X-WR-TIMEZONE:America/New_York
BEGIN:VEVENT
UID:match-5616229@streamradar.soccer
SUMMARY:Red River vs Hattiesburg
DTSTAMP:20260421T104239Z
DTSTART;TZID=America/New_York:20260516T200000
DTEND;TZID=America/New_York:20260516T220000
DESCRIPTION:Onde ver Red River vs Hattiesburg em USL League Two. TransmissÃ
 £o ao vivo e programaÃ§Ã£o de TV.\nhttps://streamradar.soccer/pt/match/5616
 229/red-river-vs-hattiesburg/
URL;VALUE=URI:https://streamradar.soccer/pt/match/5616229/red-river-vs-hatt
 iesburg/
STATUS:CONFIRMED
END:VEVENT
END:VCALENDAR
