BEGIN:VCALENDAR
VERSION:2.0
PRODID:-//StreamRadar//Match Calendar//EN
CALSCALE:GREGORIAN
METHOD:PUBLISH
X-WR-CALNAME:Chomutov vs Újezd Praha 4
X-WR-TIMEZONE:America/New_York
BEGIN:VEVENT
UID:match-5616208@streamradar.soccer
SUMMARY:Chomutov vs Újezd Praha 4
DTSTAMP:20260421T102101Z
DTSTART;TZID=America/New_York:20260505T120000
DTEND;TZID=America/New_York:20260505T140000
LOCATION:Letni stadion na Zadnich Vinohradech
DESCRIPTION:Onde ver Chomutov vs Újezd Praha 4 em República Tcheca - 4. L
 iga. Transmissão ao vivo e programação de TV.\nhttps://streamradar.socce
 r/pt/match/5616208/chomutov-vs-ujezd-praha-4/
URL;VALUE=URI:https://streamradar.soccer/pt/match/5616208/chomutov-vs-ujezd
 -praha-4/
STATUS:CONFIRMED
END:VEVENT
END:VCALENDAR
