BEGIN:VCALENDAR
VERSION:2.0
PRODID:-//StreamRadar//Match Calendar//EN
CALSCALE:GREGORIAN
METHOD:PUBLISH
X-WR-CALNAME:Næsby vs Brønshøj
X-WR-TIMEZONE:America/New_York
BEGIN:VEVENT
UID:match-5615562@streamradar.soccer
SUMMARY:Næsby vs Brønshøj
DTSTAMP:20260421T080023Z
DTSTART;TZID=America/New_York:20260516T080000
DTEND;TZID=America/New_York:20260516T100000
LOCATION:ALPI Arena Naesby
DESCRIPTION:Onde ver Næsby vs Brønshøj em Dinamarca - 3. division. Trans
 missão ao vivo e programação de TV.\nhttps://streamradar.soccer/pt/match
 /5615562/nasby-vs-bronshoj/
URL;VALUE=URI:https://streamradar.soccer/pt/match/5615562/nasby-vs-bronshoj
 /
STATUS:CONFIRMED
END:VEVENT
END:VCALENDAR
