BEGIN:VCALENDAR
VERSION:2.0
PRODID:-//StreamRadar//Match Calendar//EN
CALSCALE:GREGORIAN
METHOD:PUBLISH
X-WR-CALNAME:Mogosoaia vs Baicoi
X-WR-TIMEZONE:America/New_York
BEGIN:VEVENT
UID:match-5615548@streamradar.soccer
SUMMARY:Mogosoaia vs Baicoi
DTSTAMP:20260421T092903Z
DTSTART;TZID=America/New_York:20260516T110000
DTEND;TZID=America/New_York:20260516T130000
DESCRIPTION:Onde ver Mogosoaia vs Baicoi em RomÃªnia - Liga III. TransmissÃ
 £o ao vivo e programaÃ§Ã£o de TV.\nhttps://streamradar.soccer/pt/match/5615
 548/mogosoaia-vs-baicoi/
URL;VALUE=URI:https://streamradar.soccer/pt/match/5615548/mogosoaia-vs-baic
 oi/
STATUS:CONFIRMED
END:VEVENT
END:VCALENDAR
