BEGIN:VCALENDAR
VERSION:2.0
PRODID:-//StreamRadar//Match Calendar//EN
CALSCALE:GREGORIAN
METHOD:PUBLISH
X-WR-CALNAME:Soligorsk vs Uni X Labs
X-WR-TIMEZONE:America/New_York
BEGIN:VEVENT
UID:match-5615536@streamradar.soccer
SUMMARY:Soligorsk vs Uni X Labs
DTSTAMP:20260421T062046Z
DTSTART;TZID=America/New_York:20260509T110000
DTEND;TZID=America/New_York:20260509T130000
DESCRIPTION:Onde ver Soligorsk vs Uni X Labs em Bielorrússia - First Leagu
 e. Transmissão ao vivo e programação de TV.\nhttps://streamradar.soccer/
 pt/match/5615536/soligorsk-vs-uni-x-labs/
URL;VALUE=URI:https://streamradar.soccer/pt/match/5615536/soligorsk-vs-uni-
 x-labs/
STATUS:CONFIRMED
END:VEVENT
END:VCALENDAR
