BEGIN:VCALENDAR
VERSION:2.0
PRODID:-//StreamRadar//Match Calendar//EN
CALSCALE:GREGORIAN
METHOD:PUBLISH
X-WR-CALNAME:FK Chayka 2 vs Shahter Taganrog
X-WR-TIMEZONE:America/New_York
BEGIN:VEVENT
UID:match-5615520@streamradar.soccer
SUMMARY:FK Chayka 2 vs Shahter Taganrog
DTSTAMP:20260421T092138Z
DTSTART;TZID=America/New_York:20260516T090000
DTEND;TZID=America/New_York:20260516T110000
DESCRIPTION:Onde ver FK Chayka 2 vs Shahter Taganrog em Rússia - FNL 2. Tr
 ansmissão ao vivo e programação de TV.\nhttps://streamradar.soccer/pt/ma
 tch/5615520/fk-chayka-2-vs-shahter-taganrog/
URL;VALUE=URI:https://streamradar.soccer/pt/match/5615520/fk-chayka-2-vs-sh
 ahter-taganrog/
STATUS:CONFIRMED
END:VEVENT
END:VCALENDAR
