BEGIN:VCALENDAR
VERSION:2.0
PRODID:-//StreamRadar//Match Calendar//EN
CALSCALE:GREGORIAN
METHOD:PUBLISH
X-WR-CALNAME:Fremad Amager vs Ishøj
X-WR-TIMEZONE:America/New_York
BEGIN:VEVENT
UID:match-5615512@streamradar.soccer
SUMMARY:Fremad Amager vs Ishøj
DTSTAMP:20260421T080020Z
DTSTART;TZID=America/New_York:20260516T090000
DTEND;TZID=America/New_York:20260516T110000
DESCRIPTION:Onde ver Fremad Amager vs Ishøj em Dinamarca - 1. division din
 amarquesa. Transmissão ao vivo e programação de TV.\nhttps://streamradar
 .soccer/pt/match/5615512/fremad-amager-vs-ishoj/
URL;VALUE=URI:https://streamradar.soccer/pt/match/5615512/fremad-amager-vs-
 ishoj/
STATUS:CONFIRMED
END:VEVENT
END:VCALENDAR
