BEGIN:VCALENDAR
VERSION:2.0
PRODID:-//StreamRadar//Match Calendar//EN
CALSCALE:GREGORIAN
METHOD:PUBLISH
X-WR-CALNAME:Porto Velho vs Guaporé
X-WR-TIMEZONE:America/New_York
BEGIN:VEVENT
UID:match-5615411@streamradar.soccer
SUMMARY:Porto Velho vs Guaporé
DTSTAMP:20260421T080726Z
DTSTART;TZID=America/New_York:20260516T160000
DTEND;TZID=America/New_York:20260516T180000
DESCRIPTION:Onde ver Porto Velho vs Guaporé em Brasil - Série D. Transmis
 são ao vivo e programação de TV.\nhttps://streamradar.soccer/pt/match/56
 15411/porto-velho-vs-guapore/
URL;VALUE=URI:https://streamradar.soccer/pt/match/5615411/porto-velho-vs-gu
 apore/
STATUS:CONFIRMED
END:VEVENT
END:VCALENDAR
