BEGIN:VCALENDAR
VERSION:2.0
PRODID:-//StreamRadar//Match Calendar//EN
CALSCALE:GREGORIAN
METHOD:PUBLISH
X-WR-CALNAME:Central vs Maguary PE
X-WR-TIMEZONE:America/New_York
BEGIN:VEVENT
UID:match-5615390@streamradar.soccer
SUMMARY:Central vs Maguary PE
DTSTAMP:20260421T092024Z
DTSTART;TZID=America/New_York:20260516T160000
DTEND;TZID=America/New_York:20260516T180000
DESCRIPTION:Onde ver Central vs Maguary PE em Brasil - SÃ©rie D. TransmissÃ
 £o ao vivo e programaÃ§Ã£o de TV.\nhttps://streamradar.soccer/pt/match/5615
 390/central-vs-maguary-pe/
URL;VALUE=URI:https://streamradar.soccer/pt/match/5615390/central-vs-maguar
 y-pe/
STATUS:CONFIRMED
END:VEVENT
END:VCALENDAR
