BEGIN:VCALENDAR
VERSION:2.0
PRODID:-//StreamRadar//Match Calendar//EN
CALSCALE:GREGORIAN
METHOD:PUBLISH
X-WR-CALNAME:CI Kamsar vs ASFAG
X-WR-TIMEZONE:America/New_York
BEGIN:VEVENT
UID:match-5614802@streamradar.soccer
SUMMARY:CI Kamsar vs ASFAG
DTSTAMP:20260421T104114Z
DTSTART;TZID=America/New_York:20260417T120000
DTEND;TZID=America/New_York:20260417T140000
LOCATION:Stade de l'Amitié (Kamsar)
DESCRIPTION:Onde ver CI Kamsar vs ASFAG em Guiné - Ligue 1. Transmissão a
 o vivo e programação de TV.\nhttps://streamradar.soccer/pt/match/5614802/
 ci-kamsar-vs-asfag/
URL;VALUE=URI:https://streamradar.soccer/pt/match/5614802/ci-kamsar-vs-asfa
 g/
STATUS:CONFIRMED
END:VEVENT
END:VCALENDAR
