BEGIN:VCALENDAR
VERSION:2.0
PRODID:-//StreamRadar//Match Calendar//EN
CALSCALE:GREGORIAN
METHOD:PUBLISH
X-WR-CALNAME:Csm Targu Jiu vs Inter Sibiu
X-WR-TIMEZONE:America/New_York
BEGIN:VEVENT
UID:match-5614791@streamradar.soccer
SUMMARY:Csm Targu Jiu vs Inter Sibiu
DTSTAMP:20260421T072718Z
DTSTART;TZID=America/New_York:20260515T130000
DTEND;TZID=America/New_York:20260515T150000
DESCRIPTION:Onde ver Csm Targu Jiu vs Inter Sibiu em Romênia - Liga III. T
 ransmissão ao vivo e programação de TV.\nhttps://streamradar.soccer/pt/m
 atch/5614791/csm-targu-jiu-vs-inter-sibiu/
URL;VALUE=URI:https://streamradar.soccer/pt/match/5614791/csm-targu-jiu-vs-
 inter-sibiu/
STATUS:CONFIRMED
END:VEVENT
END:VCALENDAR
