BEGIN:VCALENDAR
VERSION:2.0
PRODID:-//StreamRadar//Match Calendar//EN
CALSCALE:GREGORIAN
METHOD:PUBLISH
X-WR-CALNAME:Latvia U19 vs ABFF U19
X-WR-TIMEZONE:America/New_York
BEGIN:VEVENT
UID:match-5614642@streamradar.soccer
SUMMARY:Latvia U19 vs ABFF U19
DTSTAMP:20260421T072724Z
DTSTART;TZID=America/New_York:20260515T090000
DTEND;TZID=America/New_York:20260515T110000
DESCRIPTION:Onde ver Letônia Sub-19 vs ABFF Sub-19 em Qualificações do E
 uro Sub-19. Transmissão ao vivo e programação de TV.\nhttps://streamrada
 r.soccer/pt/match/5614642/latvia-u19-vs-abff-u19/
URL;VALUE=URI:https://streamradar.soccer/pt/match/5614642/latvia-u19-vs-abf
 f-u19/
STATUS:CONFIRMED
END:VEVENT
END:VCALENDAR
