BEGIN:VCALENDAR
VERSION:2.0
PRODID:-//StreamRadar//Match Calendar//EN
CALSCALE:GREGORIAN
METHOD:PUBLISH
X-WR-CALNAME:Ayacucho vs Minas
X-WR-TIMEZONE:America/New_York
BEGIN:VEVENT
UID:match-5614631@streamradar.soccer
SUMMARY:Ayacucho vs Minas
DTSTAMP:20260421T062655Z
DTSTART;TZID=America/New_York:20260502T141500
DTEND;TZID=America/New_York:20260502T161500
DESCRIPTION:Onde ver Ayacucho vs Minas em Peru - Segunda Divisão. Transmis
 são ao vivo e programação de TV.\nhttps://streamradar.soccer/pt/match/56
 14631/ayacucho-vs-minas/
URL;VALUE=URI:https://streamradar.soccer/pt/match/5614631/ayacucho-vs-minas
 /
STATUS:CONFIRMED
END:VEVENT
END:VCALENDAR
