BEGIN:VCALENDAR
VERSION:2.0
PRODID:-//StreamRadar//Match Calendar//EN
CALSCALE:GREGORIAN
METHOD:PUBLISH
X-WR-CALNAME:San-Pédro vs Korhogo
X-WR-TIMEZONE:America/New_York
BEGIN:VEVENT
UID:match-5614578@streamradar.soccer
SUMMARY:San-Pédro vs Korhogo
DTSTAMP:20260421T092305Z
DTSTART;TZID=America/New_York:20260419T120000
DTEND;TZID=America/New_York:20260419T140000
LOCATION:Stade Auguste Denise (San Pédro)
DESCRIPTION:Onde ver San-Pédro vs Korhogo em Côte d'Ivoire Premier Divisi
 on. Transmissão ao vivo e programação de TV.\nhttps://streamradar.soccer
 /pt/match/5614578/san-pedro-vs-korhogo/
URL;VALUE=URI:https://streamradar.soccer/pt/match/5614578/san-pedro-vs-korh
 ogo/
STATUS:CONFIRMED
END:VEVENT
END:VCALENDAR
