BEGIN:VCALENDAR
VERSION:2.0
PRODID:-//StreamRadar//Match Calendar//EN
CALSCALE:GREGORIAN
METHOD:PUBLISH
X-WR-CALNAME:Zoman vs SOL
X-WR-TIMEZONE:America/New_York
BEGIN:VEVENT
UID:match-5614576@streamradar.soccer
SUMMARY:Zoman vs SOL
DTSTAMP:20260421T103959Z
DTSTART;TZID=America/New_York:20260417T120000
DTEND;TZID=America/New_York:20260417T140000
DESCRIPTION:Onde ver Zoman vs SOL em Côte d'Ivoire Premier Division. Trans
 missão ao vivo e programação de TV.\nhttps://streamradar.soccer/pt/match
 /5614576/zoman-vs-sol/
URL;VALUE=URI:https://streamradar.soccer/pt/match/5614576/zoman-vs-sol/
STATUS:CONFIRMED
END:VEVENT
END:VCALENDAR
