BEGIN:VCALENDAR
VERSION:2.0
PRODID:-//StreamRadar//Match Calendar//EN
CALSCALE:GREGORIAN
METHOD:PUBLISH
X-WR-CALNAME:KCB vs Ulinzi Stars
X-WR-TIMEZONE:America/New_York
BEGIN:VEVENT
UID:match-5614566@streamradar.soccer
SUMMARY:KCB vs Ulinzi Stars
DTSTAMP:20260421T104103Z
DTSTART;TZID=America/New_York:20260417T080000
DTEND;TZID=America/New_York:20260417T100000
LOCATION:Kasarani Annex Stadium (Nairobi)
DESCRIPTION:Onde ver KCB vs Ulinzi Stars em Kenyan Premier League. Transmis
 são ao vivo e programação de TV.\nhttps://streamradar.soccer/pt/match/56
 14566/kcb-vs-ulinzi-stars/
URL;VALUE=URI:https://streamradar.soccer/pt/match/5614566/kcb-vs-ulinzi-sta
 rs/
STATUS:CONFIRMED
END:VEVENT
END:VCALENDAR
