BEGIN:VCALENDAR
VERSION:2.0
PRODID:-//StreamRadar//Match Calendar//EN
CALSCALE:GREGORIAN
METHOD:PUBLISH
X-WR-CALNAME:Hapoel Katamon vs Hapoel Haifa
X-WR-TIMEZONE:America/New_York
BEGIN:VEVENT
UID:match-5614533@streamradar.soccer
SUMMARY:Hapoel Katamon vs Hapoel Haifa
DTSTAMP:20260421T062855Z
DTSTART;TZID=America/New_York:20260426T130000
DTEND;TZID=America/New_York:20260426T150000
LOCATION:Teddy Stadium
DESCRIPTION:Onde ver Hapoel Katamon vs Hapoel Haifa em Israel - Ligat Ha'Al
 . Transmissão ao vivo e programação de TV.\nhttps://streamradar.soccer/p
 t/match/5614533/hapoel-katamon-vs-hapoel-haifa/
URL;VALUE=URI:https://streamradar.soccer/pt/match/5614533/hapoel-katamon-vs
 -hapoel-haifa/
STATUS:CONFIRMED
END:VEVENT
END:VCALENDAR
