BEGIN:VCALENDAR
VERSION:2.0
PRODID:-//StreamRadar//Match Calendar//EN
CALSCALE:GREGORIAN
METHOD:PUBLISH
X-WR-CALNAME:Cooma Tigers vs Monaro Panthers
X-WR-TIMEZONE:America/New_York
BEGIN:VEVENT
UID:match-5613127@streamradar.soccer
SUMMARY:Cooma Tigers vs Monaro Panthers
DTSTAMP:20260421T101554Z
DTSTART;TZID=America/New_York:20260513T053000
DTEND;TZID=America/New_York:20260513T073000
LOCATION:Jerrabomberra Regional Sports Complex
DESCRIPTION:Onde ver Cooma Tigers vs Monaro Panthers em Austrália - NPL AC
 T. Transmissão ao vivo e programação de TV.\nhttps://streamradar.soccer/
 pt/match/5613127/cooma-tigers-vs-monaro-panthers/
URL;VALUE=URI:https://streamradar.soccer/pt/match/5613127/cooma-tigers-vs-m
 onaro-panthers/
STATUS:CONFIRMED
END:VEVENT
END:VCALENDAR
