BEGIN:VCALENDAR
VERSION:2.0
PRODID:-//StreamRadar//Match Calendar//EN
CALSCALE:GREGORIAN
METHOD:PUBLISH
X-WR-CALNAME:Inter Playa del Carmen vs Estudiantes Tecos
X-WR-TIMEZONE:America/New_York
BEGIN:VEVENT
UID:match-5613099@streamradar.soccer
SUMMARY:Inter Playa del Carmen vs Estudiantes Tecos
DTSTAMP:20260421T165401Z
DTSTART;TZID=America/New_York:20260415T160000
DTEND;TZID=America/New_York:20260415T180000
LOCATION:Unidad Deportiva Mario Villanueva Madrid (Playa del Carmen)
DESCRIPTION:Onde ver Inter Playa Del Carmen vs Estudiantes Tecos em México
  - Liga MX. Transmissão ao vivo e programação de TV.\nhttps://streamrada
 r.soccer/pt/match/5613099/inter-playa-del-carmen-vs-estudiantes-tecos/
URL;VALUE=URI:https://streamradar.soccer/pt/match/5613099/inter-playa-del-c
 armen-vs-estudiantes-tecos/
STATUS:CONFIRMED
END:VEVENT
END:VCALENDAR
