BEGIN:VCALENDAR
VERSION:2.0
PRODID:-//StreamRadar//Match Calendar//EN
CALSCALE:GREGORIAN
METHOD:PUBLISH
X-WR-CALNAME:ÍA vs Grindavík
X-WR-TIMEZONE:America/New_York
BEGIN:VEVENT
UID:match-5613075@streamradar.soccer
SUMMARY:ÍA vs Grindavík
DTSTAMP:20260421T102047Z
DTSTART;TZID=America/New_York:20260513T151500
DTEND;TZID=America/New_York:20260513T171500
DESCRIPTION:Onde ver ÍA vs Grindavík em Mjólkurbikarinn. Transmissão ao
  vivo e programação de TV.\nhttps://streamradar.soccer/pt/match/5613075/i
 a-vs-grindavik/
URL;VALUE=URI:https://streamradar.soccer/pt/match/5613075/ia-vs-grindavik/
STATUS:CONFIRMED
END:VEVENT
END:VCALENDAR
