BEGIN:VCALENDAR
VERSION:2.0
PRODID:-//StreamRadar//Match Calendar//EN
CALSCALE:GREGORIAN
METHOD:PUBLISH
X-WR-CALNAME:Swedru All Blacks vs Eleven Wonders
X-WR-TIMEZONE:America/New_York
BEGIN:VEVENT
UID:match-5613038@streamradar.soccer
SUMMARY:Swedru All Blacks vs Eleven Wonders
DTSTAMP:20260421T050823Z
DTSTART;TZID=America/New_York:20260426T110000
DTEND;TZID=America/New_York:20260426T130000
LOCATION:Swedru Stadium
DESCRIPTION:Onde ver Swedru All Blacks vs Eleven Wonders em Gana - Ghana Pr
 emier League. Transmissão ao vivo e programação de TV.\nhttps://streamra
 dar.soccer/pt/match/5613038/swedru-all-blacks-vs-eleven-wonders/
URL;VALUE=URI:https://streamradar.soccer/pt/match/5613038/swedru-all-blacks
 -vs-eleven-wonders/
STATUS:CONFIRMED
END:VEVENT
END:VCALENDAR
